BEGIN:VCALENDAR
VERSION:2.0
PRODID:-//hacksw/handcal//NONSGML v1.0//EN
BEGIN:VEVENT
DTSTAMP:20171013T220000Z
DTSTART:20171013T220000Z
DTEND:20171014T220000Z
LOCATION:Henstedt-Ulzburg, Deutschland
SUMMARY:JU SH Schleswig-Holstein-Tag
END:VEVENT
END:VCALENDAR
