BEGIN:VCALENDAR
VERSION:2.0
PRODID:-//hacksw/handcal//NONSGML v1.0//EN
BEGIN:VEVENT
DTSTAMP:20170311T190000Z
DTSTART:20170311T190000Z
DTEND:20170311T190000Z
LOCATION:Cafe Extrablatt, Große Straße, Flensburg, Deutschland
SUMMARY:JU-Flensburg Pub Crawl mit Landtagskandidat Arne Rüstemeier
END:VEVENT
END:VCALENDAR
