BEGIN:VCALENDAR
VERSION:2.0
PRODID:-//hacksw/handcal//NONSGML v1.0//EN
BEGIN:VEVENT
DTSTAMP:20171119T150000Z
DTSTART:20171119T150000Z
DTEND:20171119T150000Z
LOCATION:Bürgerhaus Kaltenkirchen, Friedenstraße 9, Kaltenkirchen, Deutschland
SUMMARY:Kreisverbandstag der JU Segeberg
END:VEVENT
END:VCALENDAR
