BEGIN:VCALENDAR
VERSION:2.0
PRODID:-//hacksw/handcal//NONSGML v1.0//EN
BEGIN:VEVENT
DTSTAMP:20180726T170000Z
DTSTART:20180726T170000Z
DTEND:20180726T170000Z
LOCATION: Breite Straße 31 , Hohenlockstedt., 25551 , Deutschland
SUMMARY:Kommission Gesellschaft und Soziales
END:VEVENT
END:VCALENDAR
