BEGIN:VCALENDAR
VERSION:2.0
PRODID:-//hacksw/handcal//NONSGML v1.0//EN
BEGIN:VEVENT
DTSTAMP:20190523T170000Z
DTSTART:20190523T170000Z
DTEND:20190523T170000Z
LOCATION:Peter Rantzau Haus , Manfred-Samusch Straße 9, Ahrensburg  , Deutschland
SUMMARY:Kommissionstreffen Gesellschaft und Soziales
END:VEVENT
END:VCALENDAR
