BEGIN:VCALENDAR
VERSION:2.0
PRODID:-//hacksw/handcal//NONSGML v1.0//EN
BEGIN:VEVENT
DTSTAMP:20200622T170000Z
DTSTART:20200622T170000Z
DTEND:20200622T170000Z
LOCATION:JU Rendsburg-Eckernförde, Deutschland
SUMMARY:Aktionswoche-Digitales: digitales Gespräch mit Johann Wadephul, MdB
END:VEVENT
END:VCALENDAR
