BEGIN:VCALENDAR
VERSION:2.0
PRODID:-//hacksw/handcal//NONSGML v1.0//EN
BEGIN:VEVENT
DTSTAMP:20201210T230000Z
DTSTART:20201210T230000Z
DTEND:20201210T230000Z
LOCATION:Deutschland
SUMMARY:Weihnachtsfeier der JU Nordfriesland 
END:VEVENT
END:VCALENDAR
