BEGIN:VCALENDAR
VERSION:2.0
PRODID:-//hacksw/handcal//NONSGML v1.0//EN
BEGIN:VEVENT
DTSTAMP:20221008T220000Z
DTSTART:20221008T220000Z
DTEND:20221008T220000Z
SUMMARY:Landtagswahl Niedersachsen
END:VEVENT
END:VCALENDAR
