BEGIN:VCALENDAR
VERSION:2.0
PRODID:-//hacksw/handcal//NONSGML v1.0//EN
BEGIN:VEVENT
DTSTAMP:20250208T120000Z
DTSTART:20250208T120000Z
DTEND:20250208T120000Z
LOCATION:Husumer Wochenmarkt , Deutschland
SUMMARY:Aktionstag für Leif Bodin
END:VEVENT
END:VCALENDAR
